BEGIN:VCALENDAR
VERSION:2.0
PRODID:-//https://www.athisvalderouvre.fr///NONSGML kigkonsult.se iCalcreator 2.10.15//
METHOD:PUBLISH
BEGIN:VEVENT
UID:20260420T071113CEST-4243lv3bPC@https://www.athisvalderouvre.fr/
DTSTAMP:20260420T051113Z
DESCRIPTION: https://www.athisvalderouvre.fr/component/rseventspro/evenemen
 t/1100-soiree-au-coin-du-jeu.html
DTSTART;VALUE=DATE:20251122
LOCATION:Médiathèque d'Athis de l'Orne (14 rue Guy Velay - Athis de l'Orne 
 61430 ATHIS VAL DE ROUVRE)
SUMMARY:SOIRÉE AU COIN DU JEU
URL:https://www.athisvalderouvre.fr/component/rseventspro/evenement/1100-so
 iree-au-coin-du-jeu.html
END:VEVENT
BEGIN:VEVENT
UID:20260420T071113CEST-4245mov2Ab@https://www.athisvalderouvre.fr/
DTSTAMP:20260420T051113Z
DESCRIPTION: https://www.athisvalderouvre.fr/component/rseventspro/evenemen
 t/1365-novembre-a-l-estrade.html
DTSTART:20251108T130000Z
DTEND:20251130T170000Z
LOCATION:Athis de l'Orne (18 Rue du Vieux Château\, 61430 Athis-de-l'Orne\,
  France)
SUMMARY:Novembre à l'Estrade!
URL:https://www.athisvalderouvre.fr/component/rseventspro/evenement/1365-no
 vembre-a-l-estrade.html
END:VEVENT
BEGIN:VEVENT
UID:20260420T071113CEST-42467VRMb2@https://www.athisvalderouvre.fr/
DTSTAMP:20260420T051113Z
DESCRIPTION: https://www.athisvalderouvre.fr/component/rseventspro/evenemen
 t/1366-defi-zero-dechet.html
DTSTART:20250831T220000Z
DTEND:20251230T230000Z
LOCATION:Flers  (61100 Flers\, France)
SUMMARY:Défi Zéro Déchet
URL:https://www.athisvalderouvre.fr/component/rseventspro/evenement/1366-de
 fi-zero-dechet.html
END:VEVENT
END:VCALENDAR
