BEGIN:VCALENDAR
VERSION:2.0
PRODID:-//https://www.athisvalderouvre.fr///NONSGML kigkonsult.se iCalcreator 2.10.15//
METHOD:PUBLISH
BEGIN:VEVENT
UID:20260420T041940CEST-2370poRePD@https://www.athisvalderouvre.fr/
DTSTAMP:20260420T021940Z
DESCRIPTION: https://www.athisvalderouvre.fr/component/rseventspro/evenemen
 t/1049-lueurs-de-noel.html
DTSTART:20251219T170000Z
DTEND:20260104T200000Z
LOCATION:Athis de l'Orne (18 Rue du Vieux Château\, 61430 Athis-de-l'Orne\,
  France)
SUMMARY:Lueurs de Noël
URL:https://www.athisvalderouvre.fr/component/rseventspro/evenement/1049-lu
 eurs-de-noel.html
END:VEVENT
BEGIN:VEVENT
UID:20260420T041940CEST-2373u8HTE7@https://www.athisvalderouvre.fr/
DTSTAMP:20260420T021940Z
DESCRIPTION: https://www.athisvalderouvre.fr/component/rseventspro/evenemen
 t/1366-defi-zero-dechet.html
DTSTART:20250831T220000Z
DTEND:20251230T230000Z
LOCATION:Flers  (61100 Flers\, France)
SUMMARY:Défi Zéro Déchet
URL:https://www.athisvalderouvre.fr/component/rseventspro/evenement/1366-de
 fi-zero-dechet.html
END:VEVENT
BEGIN:VEVENT
UID:20260420T041940CEST-23759WvrOJ@https://www.athisvalderouvre.fr/
DTSTAMP:20260420T021940Z
DESCRIPTION: https://www.athisvalderouvre.fr/component/rseventspro/evenemen
 t/1382-cirque-de-noel-cirque-tempo.html
DTSTART:20251220T190000Z
DTEND:20251230T135900Z
LOCATION:Flers  (61100 Flers\, France)
SUMMARY:Cirque de Noël - Cirque Tempo
URL:https://www.athisvalderouvre.fr/component/rseventspro/evenement/1382-ci
 rque-de-noel-cirque-tempo.html
END:VEVENT
BEGIN:VEVENT
UID:20260420T041940CEST-237652nZ85@https://www.athisvalderouvre.fr/
DTSTAMP:20260420T021940Z
DESCRIPTION: https://www.athisvalderouvre.fr/component/rseventspro/evenemen
 t/1387-emmitou-flers.html
DTSTART:20251129T133000Z
DTEND:20260104T190000Z
LOCATION:Flers  (61100 Flers\, France)
SUMMARY:Emmitou'Flers
URL:https://www.athisvalderouvre.fr/component/rseventspro/evenement/1387-em
 mitou-flers.html
END:VEVENT
END:VCALENDAR
