BEGIN:VCALENDAR
VERSION:2.0
PRODID:-//https://www.athisvalderouvre.fr///NONSGML kigkonsult.se iCalcreator 2.10.15//
METHOD:PUBLISH
BEGIN:VEVENT
UID:20260419T190311CEST-613816RjmN@https://www.athisvalderouvre.fr/
DTSTAMP:20260419T170311Z
DESCRIPTION: https://www.athisvalderouvre.fr/component/rseventspro/evenemen
 t/1421-symbiose.html
DTSTART:20260303T141300Z
DTEND:20260510T151300Z
LOCATION:La Roche d'Oëtre ()
SUMMARY:SYMBIOSE
URL:https://www.athisvalderouvre.fr/component/rseventspro/evenement/1421-sy
 mbiose.html
END:VEVENT
BEGIN:VEVENT
UID:20260419T190311CEST-6139CtBUk6@https://www.athisvalderouvre.fr/
DTSTAMP:20260419T170311Z
DESCRIPTION: https://www.athisvalderouvre.fr/component/rseventspro/evenemen
 t/1427-the-dansant.html
DTSTART:20260430T120000Z
DTEND:20260430T160000Z
LOCATION:Flers  (61100 Flers\, France)
SUMMARY:The dansant
URL:https://www.athisvalderouvre.fr/component/rseventspro/evenement/1427-th
 e-dansant.html
END:VEVENT
BEGIN:VEVENT
UID:20260419T190311CEST-6140sHlc7l@https://www.athisvalderouvre.fr/
DTSTAMP:20260419T170311Z
DESCRIPTION: https://www.athisvalderouvre.fr/component/rseventspro/evenemen
 t/1429-balades-nature-dans-l-orne.html
DTSTART:20260401T150600Z
DTEND:20261130T180600Z
LOCATION:Athis Val de Rouvre (16 Place Saint-Vigor\, 61430 Athis-de-l'Orne\
 , France)
SUMMARY:Balades nature dans l'Orne
URL:https://www.athisvalderouvre.fr/component/rseventspro/evenement/1429-ba
 lades-nature-dans-l-orne.html
END:VEVENT
END:VCALENDAR
