BEGIN:VCALENDAR
VERSION:2.0
PRODID:-//https://www.athisvalderouvre.fr///NONSGML kigkonsult.se iCalcreator 2.10.15//
METHOD:PUBLISH
BEGIN:VEVENT
UID:20260420T142718CEST-2570tw3SVV@https://www.athisvalderouvre.fr/
DTSTAMP:20260420T122718Z
DESCRIPTION: https://www.athisvalderouvre.fr/component/rseventspro/evenemen
 t/1498-symbiose.html
DTSTART;VALUE=DATE:20260510
LOCATION:La Roche d'Oëtre ()
SUMMARY:SYMBIOSE
URL:https://www.athisvalderouvre.fr/component/rseventspro/evenement/1498-sy
 mbiose.html
END:VEVENT
END:VCALENDAR
