BEGIN:VCALENDAR
VERSION:2.0
PRODID:-//https://www.athisvalderouvre.fr///NONSGML kigkonsult.se iCalcreator 2.10.15//
METHOD:PUBLISH
BEGIN:VEVENT
UID:20260420T142433CEST-4601ks6RD6@https://www.athisvalderouvre.fr/
DTSTAMP:20260420T122433Z
DESCRIPTION: https://www.athisvalderouvre.fr/component/rseventspro/evenemen
 t/1497-symbiose.html
DTSTART;VALUE=DATE:20260509
LOCATION:La Roche d'Oëtre ()
SUMMARY:SYMBIOSE
URL:https://www.athisvalderouvre.fr/component/rseventspro/evenement/1497-sy
 mbiose.html
END:VEVENT
END:VCALENDAR
