BEGIN:VCALENDAR
VERSION:2.0
PRODID:-//https://www.athisvalderouvre.fr///NONSGML kigkonsult.se iCalcreator 2.10.15//
METHOD:PUBLISH
BEGIN:VEVENT
UID:20260420T143259CEST-9040wU1Ljt@https://www.athisvalderouvre.fr/
DTSTAMP:20260420T123259Z
DESCRIPTION: https://www.athisvalderouvre.fr/component/rseventspro/evenemen
 t/1492-symbiose.html
DTSTART;VALUE=DATE:20260504
LOCATION:La Roche d'Oëtre ()
SUMMARY:SYMBIOSE
URL:https://www.athisvalderouvre.fr/component/rseventspro/evenement/1492-sy
 mbiose.html
END:VEVENT
END:VCALENDAR
