BEGIN:VCALENDAR
VERSION:2.0
PRODID:-//https://www.athisvalderouvre.fr///NONSGML kigkonsult.se iCalcreator 2.10.15//
METHOD:PUBLISH
BEGIN:VEVENT
UID:20260420T130528CEST-0522jzsEz9@https://www.athisvalderouvre.fr/
DTSTAMP:20260420T110528Z
DESCRIPTION: https://www.athisvalderouvre.fr/component/rseventspro/evenemen
 t/1484-symbiose.html
DTSTART;VALUE=DATE:20260426
LOCATION:La Roche d'Oëtre ()
SUMMARY:SYMBIOSE
URL:https://www.athisvalderouvre.fr/component/rseventspro/evenement/1484-sy
 mbiose.html
END:VEVENT
END:VCALENDAR
