BEGIN:VCALENDAR
VERSION:2.0
PRODID:-//https://www.athisvalderouvre.fr///NONSGML kigkonsult.se iCalcreator 2.10.15//
METHOD:PUBLISH
BEGIN:VEVENT
UID:20260420T130543CEST-2026M0CVip@https://www.athisvalderouvre.fr/
DTSTAMP:20260420T110543Z
DESCRIPTION: https://www.athisvalderouvre.fr/component/rseventspro/evenemen
 t/1478-symbiose.html
DTSTART;VALUE=DATE:20260420
LOCATION:La Roche d'Oëtre ()
SUMMARY:SYMBIOSE
URL:https://www.athisvalderouvre.fr/component/rseventspro/evenement/1478-sy
 mbiose.html
END:VEVENT
END:VCALENDAR
