BEGIN:VCALENDAR
VERSION:2.0
PRODID:-//https://www.athisvalderouvre.fr///NONSGML kigkonsult.se iCalcreator 2.10.15//
METHOD:PUBLISH
BEGIN:VEVENT
UID:20260420T125433CEST-7734DuszLH@https://www.athisvalderouvre.fr/
DTSTAMP:20260420T105433Z
DESCRIPTION: https://www.athisvalderouvre.fr/component/rseventspro/evenemen
 t/1476-symbiose.html
DTSTART;VALUE=DATE:20260418
LOCATION:La Roche d'Oëtre ()
SUMMARY:SYMBIOSE
URL:https://www.athisvalderouvre.fr/component/rseventspro/evenement/1476-sy
 mbiose.html
END:VEVENT
END:VCALENDAR
