BEGIN:VCALENDAR
VERSION:2.0
PRODID:-//https://www.athisvalderouvre.fr///NONSGML kigkonsult.se iCalcreator 2.10.15//
METHOD:PUBLISH
BEGIN:VEVENT
UID:20260420T125434CEST-0263CCXFlF@https://www.athisvalderouvre.fr/
DTSTAMP:20260420T105434Z
DESCRIPTION: https://www.athisvalderouvre.fr/component/rseventspro/evenemen
 t/1475-symbiose.html
DTSTART;VALUE=DATE:20260417
LOCATION:La Roche d'Oëtre ()
SUMMARY:SYMBIOSE
URL:https://www.athisvalderouvre.fr/component/rseventspro/evenement/1475-sy
 mbiose.html
END:VEVENT
END:VCALENDAR
