BEGIN:VCALENDAR
VERSION:2.0
PRODID:-//https://www.athisvalderouvre.fr///NONSGML kigkonsult.se iCalcreator 2.10.15//
METHOD:PUBLISH
BEGIN:VEVENT
UID:20260420T131032CEST-7787e517GH@https://www.athisvalderouvre.fr/
DTSTAMP:20260420T111032Z
DESCRIPTION: https://www.athisvalderouvre.fr/component/rseventspro/evenemen
 t/1472-symbiose.html
DTSTART;VALUE=DATE:20260414
LOCATION:La Roche d'Oëtre ()
SUMMARY:SYMBIOSE
URL:https://www.athisvalderouvre.fr/component/rseventspro/evenement/1472-sy
 mbiose.html
END:VEVENT
END:VCALENDAR
