BEGIN:VCALENDAR
VERSION:2.0
PRODID:-//https://www.athisvalderouvre.fr///NONSGML kigkonsult.se iCalcreator 2.10.15//
METHOD:PUBLISH
BEGIN:VEVENT
UID:20260420T125533CEST-3746g97wEB@https://www.athisvalderouvre.fr/
DTSTAMP:20260420T105533Z
DESCRIPTION: https://www.athisvalderouvre.fr/component/rseventspro/evenemen
 t/1461-symbiose.html
DTSTART;VALUE=DATE:20260403
LOCATION:La Roche d'Oëtre ()
SUMMARY:SYMBIOSE
URL:https://www.athisvalderouvre.fr/component/rseventspro/evenement/1461-sy
 mbiose.html
END:VEVENT
END:VCALENDAR
