BEGIN:VCALENDAR
VERSION:2.0
PRODID:-//https://www.athisvalderouvre.fr///NONSGML kigkonsult.se iCalcreator 2.10.15//
METHOD:PUBLISH
BEGIN:VEVENT
UID:20260419T233245CEST-1080VSrzCG@https://www.athisvalderouvre.fr/
DTSTAMP:20260419T213245Z
DESCRIPTION: https://www.athisvalderouvre.fr/component/rseventspro/evenemen
 t/1426-rencontre-et-detente-pour-les-aidants.html
DTSTART:20260519T082300Z
DTEND:20260519T102300Z
LOCATION:Sainte Honorine la Chardonne ()
SUMMARY:Rencontre et détente pour les aidants 
URL:https://www.athisvalderouvre.fr/component/rseventspro/evenement/1426-re
 ncontre-et-detente-pour-les-aidants.html
END:VEVENT
END:VCALENDAR
