BEGIN:VCALENDAR
VERSION:2.0
PRODID:-//https://www.athisvalderouvre.fr///NONSGML kigkonsult.se iCalcreator 2.10.15//
METHOD:PUBLISH
BEGIN:VEVENT
UID:20260420T054815CEST-7802ZS3EIS@https://www.athisvalderouvre.fr/
DTSTAMP:20260420T034815Z
DESCRIPTION: https://www.athisvalderouvre.fr/component/rseventspro/evenemen
 t/1097-l-heure-du-conte.html
DTSTART;VALUE=DATE:20251210
LOCATION:Médiathèque d'Athis de l'Orne (14 rue Guy Velay - Athis de l'Orne 
 61430 ATHIS VAL DE ROUVRE)
SUMMARY:L'heure du conte
URL:https://www.athisvalderouvre.fr/component/rseventspro/evenement/1097-l-
 heure-du-conte.html
END:VEVENT
END:VCALENDAR
