BEGIN:VCALENDAR
VERSION:2.0
PRODID:-//https://www.athisvalderouvre.fr///NONSGML kigkonsult.se iCalcreator 2.10.15//
METHOD:PUBLISH
BEGIN:VEVENT
UID:20260420T211617CEST-4108A0mUFA@https://www.athisvalderouvre.fr/
DTSTAMP:20260420T191617Z
DESCRIPTION: https://www.athisvalderouvre.fr/component/rseventspro/evenemen
 t/1095-calendrier-des-collectes-de-sang-2025.html
DTSTART;VALUE=DATE:20250124
LOCATION:Forum de Flers ()
SUMMARY:CALENDRIER DES COLLECTES DE SANG 2025
URL:https://www.athisvalderouvre.fr/component/rseventspro/evenement/1095-ca
 lendrier-des-collectes-de-sang-2025.html
END:VEVENT
END:VCALENDAR
