BEGIN:VCALENDAR
VERSION:2.0
PRODID:-//https://www.athisvalderouvre.fr///NONSGML kigkonsult.se iCalcreator 2.10.15//
METHOD:PUBLISH
BEGIN:VEVENT
UID:20260420T150804CEST-6159Js7eCK@https://www.athisvalderouvre.fr/
DTSTAMP:20260420T130804Z
DESCRIPTION: https://www.athisvalderouvre.fr/agenda/evenement/1501-la-broca
 nte-de-michou.html
DTSTART:20260501T040000Z
DTEND:20260501T180000Z
LOCATION:Athis de l'Orne (18 Rue du Vieux Château\, 61430 Athis-de-l'Orne\,
  France)
SUMMARY:LA BROCANTE DE MICHOU
URL:https://www.athisvalderouvre.fr/agenda/evenement/1501-la-brocante-de-mi
 chou.html
END:VEVENT
END:VCALENDAR
