BEGIN:VCALENDAR
VERSION:2.0
PRODID:-//https://www.athisvalderouvre.fr///NONSGML kigkonsult.se iCalcreator 2.10.15//
METHOD:PUBLISH
BEGIN:VEVENT
UID:20260420T152432CEST-9471HUVKCm@https://www.athisvalderouvre.fr/
DTSTAMP:20260420T132432Z
DESCRIPTION:Pour s'inscrire\, clique sur le lien suivant :&nbsp\;https://cd
 bins.athisvalderouvre.com/&nbsp\;\n https://www.athisvalderouvre.fr/agenda
 /evenement/1500-les-randos-3-mai-2026.html
DTSTART;VALUE=DATE:20260503
LOCATION:Athis de l'Orne (18 Rue du Vieux Château\, 61430 Athis-de-l'Orne\,
  France)
SUMMARY:LES RANDOS - 3 MAI 2026
URL:https://www.athisvalderouvre.fr/agenda/evenement/1500-les-randos-3-mai-
 2026.html
END:VEVENT
END:VCALENDAR
